BEGIN:VCALENDAR
VERSION:2.0
PRODID:icalendar-ruby
CALSCALE:GREGORIAN
METHOD:PUBLISH
BEGIN:VEVENT
DTSTAMP:20260419T140956Z
UID:52-773707@lwbcsv.com
DTSTART:20260419T220000Z
DTEND:20260419T230000Z
CLASS:PUBLIC
CREATED:20260419T082205
DESCRIPTION:Home Improvements is our new Sunday night format. It is designe
 d to provide a Small Group learning atmosphere for the entire family. \nT
 Here will be a Staffed Nursery\, Youth Group\, Young Adult &amp\; Young Fa
 mily Group plus a traditional church service. 
LAST-MODIFIED:20260419T082205
LOCATION:LWBC Basement
SUMMARY:Home Improvements
URL;VALUE=URI:https://www.lwbcsv.com/events/home-improvements/2026-04-19
END:VEVENT
END:VCALENDAR
