BEGIN:VCALENDAR
VERSION:2.0
PRODID:icalendar-ruby
CALSCALE:GREGORIAN
METHOD:PUBLISH
BEGIN:VEVENT
DTSTAMP:20260421T132513Z
UID:14-781081@lwbcsv.com
DTSTART:20260916T230000Z
DTEND:20260917T000000Z
CLASS:PUBLIC
CREATED:20260421T073932
DESCRIPTION:Mid week Service is a special time. This is where time is set a
 side for Prayer Request and a Time of Prayer for those request. There is a
 lso time spent in God's Word. \nPlease join us in this Wednesday.
LAST-MODIFIED:20260421T073932
LOCATION:LWBC
SUMMARY:Mid Week Bible Study & Prayer Meeting
URL;VALUE=URI:https://www.lwbcsv.com/events/mid-week-bible-study-prayer-mee
 ting--14/2026-09-16
ATTACH;FILENAME=NslK.jpg;FMTTYPE=image/jpeg:https://dq5pwpg1q8ru0.cloudfron
 t.net/2023/05/09/07/05/50/fc66dee5-3bf0-4ecf-932c-f98a76efd216/NslK.jpg
END:VEVENT
END:VCALENDAR
