BEGIN:VCALENDAR
VERSION:2.0
PRODID:icalendar-ruby
CALSCALE:GREGORIAN
METHOD:PUBLISH
BEGIN:VEVENT
DTSTAMP:20260422T160208Z
UID:13-785234@lwbcsv.com
DTSTART:20261004T220000Z
DTEND:20261004T230000Z
CLASS:PUBLIC
CREATED:20260422T104550
DESCRIPTION:Sunday Evening Worship is a great time of singing\, testimonies
  and a look into God's Word\nWe would love to see you this Sunday night!
LAST-MODIFIED:20260422T104550
LOCATION:LWBC
SUMMARY:Sunday Evening Worship Service
URL;VALUE=URI:https://www.lwbcsv.com/events/sunday-evening-worship-service-
 -13/2026-10-04
ATTACH;FILENAME=Slider3-min-1920x700-1920x700.jpg;FMTTYPE=image/jpeg:https:
 //dq5pwpg1q8ru0.cloudfront.net/2023/05/09/06/58/47/6b7dfad4-bed9-4a71-9d7c
 -df4afe45fe5b/Slider3-min-1920x700-1920x700.jpg
END:VEVENT
END:VCALENDAR
